BEGIN:VCALENDAR
VERSION:2.0
PRODID:-//Tukios.com/
BEGIN:VEVENT
UID:98be5dba-d73d-4fd7-9cc9-694f65c3ada2@www.dossmanfh.com
DTSTAMP:20260423T133937Z
DTSTART:20260424T223000Z
DTEND:20260425T000000Z
SUMMARY:Visitation
DESCRIPTION:
URL:https://www.dossmanfh.com/obituaries/brian-menzie
LOCATION: 2525 N Main St  Belton TX 76513
GEO:31.0811779;-97.4567566
END:VEVENT
END:VCALENDAR