BEGIN:VCALENDAR
VERSION:2.0
PRODID:-//Tukios.com/
BEGIN:VEVENT
UID:70a5c9c4-4d67-4726-b9a4-e23fec982965@www.dossmanfh.com
DTSTAMP:20260423T133937Z
DTSTART:20260425T150000Z
DTEND:20260425T160000Z
SUMMARY:Memorial Service
DESCRIPTION:
URL:https://www.dossmanfh.com/obituaries/brian-menzie
LOCATION: 2525 N Main St  Belton TX 76513
GEO:31.0811779;-97.4567566
END:VEVENT
END:VCALENDAR