BEGIN:VCALENDAR
VERSION:2.0
PRODID:-//Tukios.com/
BEGIN:VEVENT
UID:8b51f0f3-8d77-409a-96d0-1d24229c17e7@www.dossmanfh.com
DTSTAMP:20260423T133936Z
DTSTART:20260425T190000Z
DTEND:20260425T200000Z
SUMMARY:Memorial Service
DESCRIPTION:
URL:https://www.dossmanfh.com/obituaries/joe-insall
LOCATION: 2525 N Main St  Belton TX 76513
GEO:31.0811779;-97.4567566
END:VEVENT
END:VCALENDAR