BEGIN:VCALENDAR
VERSION:2.0
PRODID:-//Tukios.com/
BEGIN:VEVENT
UID:daf78128-e821-47ee-935b-7da26dcf9881@www.dossmanfh.com
DTSTAMP:20260423T133936Z
DTSTART:20260425
SUMMARY:Burial
DESCRIPTION:
URL:https://www.dossmanfh.com/obituaries/joe-insall
LOCATION: 800 Baines Street  Salado TX 76571
GEO:30.9373577;-97.5327841
END:VEVENT
END:VCALENDAR