BEGIN:VCALENDAR
VERSION:2.0
PRODID:-//Tukios.com/
BEGIN:VEVENT
UID:96ed35f0-a716-40d7-977e-e82847bed370@www.dossmanfh.com
DTSTAMP:20260423T133925Z
DTSTART:20260425T210000Z
DTEND:20260425T220000Z
SUMMARY:Visitation
DESCRIPTION:
URL:https://www.dossmanfh.com/obituaries/keith-lee
LOCATION: 2525 N Main St  Belton TX 76513
GEO:31.0811779;-97.4567566
END:VEVENT
END:VCALENDAR