BEGIN:VCALENDAR
VERSION:2.0
PRODID:-//Tukios.com/
BEGIN:VEVENT
UID:87da2a82-8a82-4ff5-b5b3-f2d27f7aad1a@www.dossmanfh.com
DTSTAMP:20260423T133939Z
DTSTART:20260425T220000Z
DTEND:20260425T230000Z
SUMMARY:Memorial Service
DESCRIPTION:
URL:https://www.dossmanfh.com/obituaries/keith-lee
LOCATION: 2525 N Main St  Belton TX 76513
GEO:31.0811779;-97.4567566
END:VEVENT
END:VCALENDAR