BEGIN:VCALENDAR
VERSION:2.0
PRODID:-//Tukios.com/
BEGIN:VEVENT
UID:6a046533-4292-4fd0-81e0-a82ed38689df@www.dossmanfh.com
DTSTAMP:20260423T133938Z
DTSTART:20260424T190000Z
DTEND:20260424T200000Z
SUMMARY:Funeral Service
DESCRIPTION:
URL:https://www.dossmanfh.com/obituaries/larry-medlin
LOCATION: 2525 N Main St  Belton TX 76513
GEO:31.0811779;-97.4567566
END:VEVENT
END:VCALENDAR