BEGIN:VCALENDAR
VERSION:2.0
PRODID:-//Tukios.com/
BEGIN:VEVENT
UID:9c121bf2-b49d-46da-911f-bf73dc7e1c53@www.dossmanfh.com
DTSTAMP:20260423T145726Z
DTSTART:20260518T160000Z
DTEND:20260518T170000Z
SUMMARY:Memorial Service
DESCRIPTION:
URL:https://www.dossmanfh.com/obituaries/michael-sleeth
LOCATION: 11463 Texas 195  Killeen TX 76542
GEO:31.0263208;-97.7581593
END:VEVENT
END:VCALENDAR