BEGIN:VCALENDAR
VERSION:2.0
PRODID:-//Tukios.com/
BEGIN:VEVENT
UID:bb9bd040-c245-4361-a0e4-e12bb4c828cd@www.dossmanfh.com
DTSTAMP:20260423T133936Z
DTSTART:20260430T150000Z
DTEND:20260430T160000Z
SUMMARY:Celebration of Life
DESCRIPTION:
URL:https://www.dossmanfh.com/obituaries/patricia-surrao
LOCATION:Tilden Regional Park,  The Brazil Room 1500 Wildcat Canyon Road  
	Berkeley CA 94708
GEO:37.8936454;-122.2452042
END:VEVENT
END:VCALENDAR