BEGIN:VCALENDAR
VERSION:2.0
PRODID:-//Tukios.com/
BEGIN:VEVENT
UID:23802ae1-2bdc-4836-9c67-e0b2cdf94924@www.dossmanfh.com
DTSTAMP:20260423T133926Z
DTSTART:20260423T150000Z
DTEND:20260423T160000Z
SUMMARY:Inurnment
DESCRIPTION:
URL:https://www.dossmanfh.com/obituaries/robert-johnson
LOCATION: 11463 Texas 195  Killeen TX 76542
GEO:31.0263208;-97.7581593
END:VEVENT
END:VCALENDAR